
 BEGIN:VCALENDAR
VERSION:2.0
PRODID:-//EU AML/CFT Global Facility - ECPv6.15.20//NONSGML v1.0//EN
CALSCALE:GREGORIAN
METHOD:PUBLISH
X-ORIGINAL-URL:https://www.global-amlcft.eu
X-WR-CALDESC:Events for EU AML/CFT Global Facility
REFRESH-INTERVAL;VALUE=DURATION:PT1H
X-Robots-Tag:noindex
X-PUBLISHED-TTL:PT1H
BEGIN:VTIMEZONE
TZID:Europe/Paris
BEGIN:DAYLIGHT
TZOFFSETFROM:+0100
TZOFFSETTO:+0200
TZNAME:CEST
DTSTART:20210328T010000
END:DAYLIGHT
BEGIN:STANDARD
TZOFFSETFROM:+0200
TZOFFSETTO:+0100
TZNAME:CET
DTSTART:20211031T010000
END:STANDARD
BEGIN:DAYLIGHT
TZOFFSETFROM:+0100
TZOFFSETTO:+0200
TZNAME:CEST
DTSTART:20220327T010000
END:DAYLIGHT
BEGIN:STANDARD
TZOFFSETFROM:+0200
TZOFFSETTO:+0100
TZNAME:CET
DTSTART:20221030T010000
END:STANDARD
BEGIN:DAYLIGHT
TZOFFSETFROM:+0100
TZOFFSETTO:+0200
TZNAME:CEST
DTSTART:20230326T010000
END:DAYLIGHT
BEGIN:STANDARD
TZOFFSETFROM:+0200
TZOFFSETTO:+0100
TZNAME:CET
DTSTART:20231029T010000
END:STANDARD
END:VTIMEZONE
BEGIN:VEVENT
DTSTART;VALUE=DATE:20220509
DTEND;VALUE=DATE:20220514
DTSTAMP:20260424T182522
CREATED:20220427T123106Z
LAST-MODIFIED:20220515T154455Z
UID:2304-1652054400-1652486399@www.global-amlcft.eu
SUMMARY:Regional Conference on Correspondent Banking
DESCRIPTION:[vc_row type=”in_container” full_screen_row_position=”middle” column_margin=”default” column_direction=”default” column_direction_tablet=”default” column_direction_phone=”default” scene_position=”center” text_color=”dark” text_align=”left” row_border_radius=”none” row_border_radius_applies=”bg” overflow=”visible” overlay_strength=”0.3″ gradient_direction=”left_to_right” shape_divider_position=”bottom” bg_image_animation=”none”][vc_column column_padding=”no-extra-padding” column_padding_tablet=”inherit” column_padding_phone=”inherit” column_padding_position=”all” column_element_spacing=”default” background_color_opacity=”1″ background_hover_color_opacity=”1″ column_shadow=”none” column_border_radius=”none” column_link_target=”_self” column_position=”default” gradient_direction=”left_to_right” overlay_strength=”0.3″ width=”1/1″ tablet_width_inherit=”default” tablet_text_alignment=”default” phone_text_alignment=”default” animation_type=”default” bg_image_animation=”none” border_type=”simple” column_border_width=”none” column_border_style=”solid”][vc_column_text]\nRegional conference on correspondent banking inaugurated by EU Global Facility\, Bank of Mauritius\nPort Louis\, 11 May 2022 – A regional conference on correspondent banking and de-risking in Eastern and Southern Africa was opened today by the EU Global Facility on AML/CFT and the Bank of Mauritius (BoM) in collaboration with the Eastern and Southern Africa Anti-Money Laundering Group (ESAAMLG). \nHeld under the title “From de-risking to best practices in correspondent banking relationships in Eastern and Southern Africa”\, the two-day event aims to assess the causes and existence of de-risking in ESAAMLG countries\, as well as measures to tackle financial inclusion through the sharing of best practices in correspondent banking. \nMinister of Finance\, Economic Planning and Development\, Dr. Renganaden Padayachy\, opened the conference\, stating: “Our objective is for Mauritius to continue to strengthen its role as an international financial centre for the region while promoting financial stability and inclusion in the country. I am confident that the discussions at this conference will provide guidance in this direction.” \nThe high level conference will witness the participation of representatives from some of the most important actors in the banking field\, including the International Monetary Fund\, the Wolfsberg Group\, SWIFT\, the Financial Action Task Force (FATF)\, the Egmont Group\, Facebook Payments\, as well as Mauritian financial institutions. \n“The BoM works very closely with all its regulatees to ensure a continuous monitoring of developments on the front of correspondent banking and cross border payments. This workshop is therefore of paramount importance to come out better equipped in view of fostering stronger correspondent banking relationships\,” said Harvesh Seegoolam\, Governor of the BoM. \nFor his part\, David Hotte\, Team Leader of the EU Global Facility\, explained: “The economic impact of de-risking can be devastating for countries around the world. They include difficulties in accessing international payment systems and foreign markets for trade\, closure of operations by institutions\, reduced scale of operations\, and diminished financial performance and job losses.” \nNoting that the number of correspondent banking terminations and restrictions had increased in the ESAAMLG region in recent years\, he added: “with this unique and very high level conference\, we intend to provide answers and solutions to the conclusions of the ESAAMLG survey on correspondent banking relationships.” \nLast year\, Mauritius was removed from both the FATF List of Countries subject to Increased Monitoring ahead of the FATF set timelines and the European Commission List of High-Risk Third Countries. This followed continuous efforts to strengthen the effectiveness of the country’s AML/CFT regime. \n——- \nThe event took place in a hybrid format (onsite and online) in Mauritius\, from 11th to 12th\, May 2022. \nThe objectives of this conference are to assist participants on:\n(a) The de-risking phenomenon in ESAAMLG region\, causes\, consequences\, and main drivers of correspondent banking relationships (CBRs) termination\n(b) The measurement of de-risking impact and of listing\n(c) Describe the FATF (Recommendation 13) and EU best practices\, cross-border correspondent relationships\, as opposed to domestic relationships\, that should prompt additional customer due diligence measures\n(d) Clarify the role of SWIFT as global provider of secure financial messaging services\, and give an overview of the correspondent banking system\, SWIFT’s role and initiatives in financial crime compliance\, and particularly in the ESAAMLG region\n(e) The challenges faced by correspondent banks\n(f) The practical roles\, tools and solutions\, available for supervisors to design and implement risk-based supervision strategies\n(g) The practical expectations\, from the Financial Intelligence Units in receiving\, analysing\, and disseminating suspicious transaction reports on correspondent banking\, and from Law Enforcement agencies in conducting investigations on financial crime abusing correspondent banking relationships (typologies) and the relevant consequences\n(h) Facilitating the exchange of experiences between similar competent authorities[/vc_column_text][/vc_column][/vc_row][vc_row type=”in_container” full_screen_row_position=”middle” column_margin=”default” column_direction=”default” column_direction_tablet=”default” column_direction_phone=”default” scene_position=”center” text_color=”dark” text_align=”left” row_border_radius=”none” row_border_radius_applies=”bg” overflow=”visible” overlay_strength=”0.3″ gradient_direction=”left_to_right” shape_divider_position=”bottom” bg_image_animation=”none”][vc_column column_padding=”no-extra-padding” column_padding_tablet=”inherit” column_padding_phone=”inherit” column_padding_position=”all” column_element_spacing=”default” background_color_opacity=”1″ background_hover_color_opacity=”1″ column_shadow=”none” column_border_radius=”none” column_link_target=”_self” column_position=”default” gradient_direction=”left_to_right” overlay_strength=”0.3″ width=”1/3″ tablet_width_inherit=”default” tablet_text_alignment=”default” phone_text_alignment=”default” animation_type=”default” bg_image_animation=”none” border_type=”simple” column_border_width=”none” column_border_style=”solid”][divider line_type=”No Line” custom_height=”60px”][divider line_type=”No Line” custom_height=”60px”][vc_gallery type=”flexslider_style” images=”2437\,2436\,2434\,2433\,2431″ onclick=”link_no”][/vc_column][vc_column column_padding=”no-extra-padding” column_padding_tablet=”inherit” column_padding_phone=”inherit” column_padding_position=”all” column_element_spacing=”default” background_color_opacity=”1″ background_hover_color_opacity=”1″ column_shadow=”none” column_border_radius=”none” column_link_target=”_self” column_position=”default” gradient_direction=”left_to_right” overlay_strength=”0.3″ width=”1/3″ tablet_width_inherit=”default” tablet_text_alignment=”default” phone_text_alignment=”default” animation_type=”default” bg_image_animation=”none” border_type=”simple” column_border_width=”none” column_border_style=”solid”][divider line_type=”No Line” custom_height=”250px”][nectar_cta btn_style=”see-through” heading_tag=”h6″ text_color=”#009fe3″ button_color=”default” button_border_thickness=”0px” link_type=”regular” alignment=”center” alignment_tablet=”default” alignment_phone=”default” display=”block” display_tablet=”inherit” display_phone=”inherit” link_text=”See more photos” url=”https://www.global-amlcft.eu/images-videos/”][divider line_type=”No Line” custom_height=”60px”][/vc_column][vc_column column_padding=”no-extra-padding” column_padding_tablet=”inherit” column_padding_phone=”inherit” column_padding_position=”all” column_element_spacing=”default” background_color_opacity=”1″ background_hover_color_opacity=”1″ column_shadow=”none” column_border_radius=”none” column_link_target=”_self” column_position=”default” gradient_direction=”left_to_right” overlay_strength=”0.3″ width=”1/3″ tablet_width_inherit=”default” tablet_text_alignment=”default” phone_text_alignment=”default” animation_type=”default” bg_image_animation=”none” border_type=”simple” column_border_width=”none” column_border_style=”solid”][divider line_type=”No Line” custom_height=”60px”][divider line_type=”No Line” custom_height=”60px”][vc_video link=”https://youtu.be/HqkSRZuZlTk”][/vc_column][/vc_row]
URL:https://www.global-amlcft.eu/event/regional-conference-on-correspondent-banking/
LOCATION:Mauritius\, Mauritius
CATEGORIES:(On-site) Regional Conference
ATTACH;FMTTYPE=image/jpeg:https://www.global-amlcft.eu/wp-content/uploads/2022/04/279801415_1894562710743622_6267445752727766780_n-1.jpg
ORGANIZER;CN="EU AML/CFT Global Facility":MAILTO:info@global-amlcft.eu
END:VEVENT
END:VCALENDAR