
 BEGIN:VCALENDAR
VERSION:2.0
PRODID:-//EU AML/CFT Global Facility - ECPv6.15.20//NONSGML v1.0//EN
CALSCALE:GREGORIAN
METHOD:PUBLISH
X-ORIGINAL-URL:https://www.global-amlcft.eu
X-WR-CALDESC:Events for EU AML/CFT Global Facility
REFRESH-INTERVAL;VALUE=DURATION:PT1H
X-Robots-Tag:noindex
X-PUBLISHED-TTL:PT1H
BEGIN:VTIMEZONE
TZID:Europe/Paris
BEGIN:DAYLIGHT
TZOFFSETFROM:+0100
TZOFFSETTO:+0200
TZNAME:CEST
DTSTART:20210328T010000
END:DAYLIGHT
BEGIN:STANDARD
TZOFFSETFROM:+0200
TZOFFSETTO:+0100
TZNAME:CET
DTSTART:20211031T010000
END:STANDARD
BEGIN:DAYLIGHT
TZOFFSETFROM:+0100
TZOFFSETTO:+0200
TZNAME:CEST
DTSTART:20220327T010000
END:DAYLIGHT
BEGIN:STANDARD
TZOFFSETFROM:+0200
TZOFFSETTO:+0100
TZNAME:CET
DTSTART:20221030T010000
END:STANDARD
BEGIN:DAYLIGHT
TZOFFSETFROM:+0100
TZOFFSETTO:+0200
TZNAME:CEST
DTSTART:20230326T010000
END:DAYLIGHT
BEGIN:STANDARD
TZOFFSETFROM:+0200
TZOFFSETTO:+0100
TZNAME:CET
DTSTART:20231029T010000
END:STANDARD
END:VTIMEZONE
BEGIN:VEVENT
DTSTART;VALUE=DATE:20220502
DTEND;VALUE=DATE:20220505
DTSTAMP:20260424T131935
CREATED:20220427T121127Z
LAST-MODIFIED:20220531T085701Z
UID:2301-1651449600-1651708799@www.global-amlcft.eu
SUMMARY:2nd Meeting of the High Level Experts Working Group
DESCRIPTION:[vc_row type=”in_container” full_screen_row_position=”middle” column_margin=”default” column_direction=”default” column_direction_tablet=”default” column_direction_phone=”default” scene_position=”center” text_color=”dark” text_align=”left” row_border_radius=”none” row_border_radius_applies=”bg” overflow=”visible” overlay_strength=”0.3″ gradient_direction=”left_to_right” shape_divider_position=”bottom” bg_image_animation=”none”][vc_column column_padding=”no-extra-padding” column_padding_tablet=”inherit” column_padding_phone=”inherit” column_padding_position=”all” column_element_spacing=”default” background_color_opacity=”1″ background_hover_color_opacity=”1″ column_shadow=”none” column_border_radius=”none” column_link_target=”_self” column_position=”default” gradient_direction=”left_to_right” overlay_strength=”0.3″ width=”1/1″ tablet_width_inherit=”default” tablet_text_alignment=”default” phone_text_alignment=”default” animation_type=”default” bg_image_animation=”none” border_type=”simple” column_border_width=”none” column_border_style=”solid”][vc_column_text]\nExperts convene to develop innovative legal tools to combat money laundering\, terrorist financing\nBucarest\, 2 May 2022 – High level experts from the judiciary and financial intelligence fields on Wednesday concluded a three-day meeting organised by the EU Global Facility on Anti-Money Laundering and Countering the Financing of Terrorism (EU GF-AML/CFT) in cooperation with the Siracusa International Institute on criminal justice and human rights. \nHeld at the National Institute of Magistracy of Romania\, this constituted the second in a series of collaborative meetings held under the title “Assessing the scope and effectiveness of innovative legal approaches to money laundering (ML) investigations and asset recovery”. These activities seek to lead to the production of a far-reaching study on existing good practice that alleviate the burden of proof in ML investigations and asset recovery procedures. The results of the study shall provide a valuable resource for the work of relevant global and regional institutions (e.g. FATF\, FSRBs\, EU and UN relevant structures etc.)\, as well as national authorities and justice sectors. \nGeneral Prosecutor of Romania Gabriela Scutea opened the session on Monday\, stating “We need  to help develop new innovative instruments to combat ML and terrorist financing (TF) worldwide. I am trusting that the result of this collaborative work will be helpful and inspire legal practitioners not only here in Romania but also in many countries of the world.” \nFor his part\, EU Global Facility Team Leader David Hotte noted in his opening remarks: “Today\, we need to find a solution to combat ML/TF in an ever more efficient way that is useful for all but also constitutional and in respect of human rights.” \nDuring this specific session\, experts worked to identify\, in their domestic law\, one or several legal mechanisms (legislative provision\, rule established by consolidated case law\, administrative mechanism\, etc.) which facilitate satisfying the reversed burden of proof in ML and cases of illicit enrichment offence. \nPresident of the Siracusa Institute\, Jean-François Thony\, stressed the importance of the matter\, saying “the experts meeting today have one question to answer: how can we improve the fight against money laundering and terrorist financing and how can we ensure that criminals engaging in that kind of activities can be sentenced and deprived of their ill-gotten assets\, within the respect of constitutional rights?”  \n“All practitioners know that the difficulty of providing evidence of the offence of money laundering is more acute than for any other crime\, because the essence of this offence is precisely to hide evidence\, to make the trail of illicit profits untraceable\, and to protect criminal assets from confiscation\,” he added. \nThe Experts Working Group is part of a series of activities organised by the EU GF-AML/CFT and the Siracusa Institute aimed at strengthening international judicial co-operation and the efficient application of existing MLA standards and international instruments by judges and prosecutors.[/vc_column_text][/vc_column][/vc_row][vc_row type=”in_container” full_screen_row_position=”middle” column_margin=”default” column_direction=”default” column_direction_tablet=”default” column_direction_phone=”default” scene_position=”center” text_color=”dark” text_align=”left” row_border_radius=”none” row_border_radius_applies=”bg” overflow=”visible” overlay_strength=”0.3″ gradient_direction=”left_to_right” shape_divider_position=”bottom” bg_image_animation=”none”][vc_column column_padding=”no-extra-padding” column_padding_tablet=”inherit” column_padding_phone=”inherit” column_padding_position=”all” column_element_spacing=”default” background_color_opacity=”1″ background_hover_color_opacity=”1″ column_shadow=”none” column_border_radius=”none” column_link_target=”_self” column_position=”default” gradient_direction=”left_to_right” overlay_strength=”0.3″ width=”1/2″ tablet_width_inherit=”default” tablet_text_alignment=”default” phone_text_alignment=”default” animation_type=”default” bg_image_animation=”none” border_type=”simple” column_border_width=”none” column_border_style=”solid”][divider line_type=”No Line” custom_height=”60px”][vc_gallery type=”nectarslider_style” images=”2385\,2384\,2383\,2382\,2381\,2380\,2379\,2378\,2377\,2374\,2373\,2372\,2371\,2370\,2369\,2368\,2367\,2366\,2365\,2364\,2363\,2362\,2361\,2360\,2359\,2358\,2357\,2356\,2355\,2354\,2353\,2352\,2351\,2348\,2346\,2344\,2342\,2340\,2339\,2338\,2337\,2335\,2334\,2333\,2331\,2330\,2327\,2326\,2324\,2323\,2322\,2321\,2320\,2317\,2316\,2315\,2314\,2313\,2312\,2311″ image_loading=”default” bullet_navigation_style=”see_through” onclick=”link_no”][nectar_cta btn_style=”see-through” heading_tag=”h6″ text_color=”#009fe3″ button_color=”default” button_border_thickness=”0px” link_type=”regular” alignment=”left” alignment_tablet=”default” alignment_phone=”default” display=”block” display_tablet=”inherit” display_phone=”inherit” link_text=”See more photos” url=”https://www.global-amlcft.eu/images-videos/”][divider line_type=”No Line” custom_height=”60px”][/vc_column][vc_column column_padding=”no-extra-padding” column_padding_tablet=”inherit” column_padding_phone=”inherit” column_padding_position=”all” column_element_spacing=”default” background_color_opacity=”1″ background_hover_color_opacity=”1″ column_shadow=”none” column_border_radius=”none” column_link_target=”_self” column_position=”default” gradient_direction=”left_to_right” overlay_strength=”0.3″ width=”1/2″ tablet_width_inherit=”default” tablet_text_alignment=”default” phone_text_alignment=”default” animation_type=”default” bg_image_animation=”none” border_type=”simple” column_border_width=”none” column_border_style=”solid”][divider line_type=”No Line” custom_height=”60px”][nectar_cta btn_style=”see-through” heading_tag=”h6″ text_color=”#009fe3″ button_color=”default” button_border_thickness=”0px” link_type=”regular” alignment=”left” alignment_tablet=”default” alignment_phone=”default” display=”block” display_tablet=”inherit” display_phone=”inherit” link_text=”See more videos” url=”https://www.global-amlcft.eu/images-videos/”][vc_video link=”https://www.youtube.com/watch?v=msWcl9ENUwc&ab_channel=EUGF-AMLCFTGlobalFacility”][divider line_type=”No Line” custom_height=”60px”][/vc_column][/vc_row]
URL:https://www.global-amlcft.eu/event/2nd-meeting-of-the-high-level-experts-working-group/
LOCATION:Bucarest\, Romania
CATEGORIES:(On-site) Regional Conference
ATTACH;FMTTYPE=image/jpeg:https://www.global-amlcft.eu/wp-content/uploads/2022/05/DSC05794.jpg
ORGANIZER;CN="EU AML/CFT Global Facility":MAILTO:info@global-amlcft.eu
END:VEVENT
END:VCALENDAR