
 BEGIN:VCALENDAR
VERSION:2.0
PRODID:-//EU AML/CFT Global Facility - ECPv6.15.20//NONSGML v1.0//EN
CALSCALE:GREGORIAN
METHOD:PUBLISH
X-ORIGINAL-URL:https://www.global-amlcft.eu
X-WR-CALDESC:Events for EU AML/CFT Global Facility
REFRESH-INTERVAL;VALUE=DURATION:PT1H
X-Robots-Tag:noindex
X-PUBLISHED-TTL:PT1H
BEGIN:VTIMEZONE
TZID:Europe/Paris
BEGIN:DAYLIGHT
TZOFFSETFROM:+0100
TZOFFSETTO:+0200
TZNAME:CEST
DTSTART:20200329T010000
END:DAYLIGHT
BEGIN:STANDARD
TZOFFSETFROM:+0200
TZOFFSETTO:+0100
TZNAME:CET
DTSTART:20201025T010000
END:STANDARD
BEGIN:DAYLIGHT
TZOFFSETFROM:+0100
TZOFFSETTO:+0200
TZNAME:CEST
DTSTART:20210328T010000
END:DAYLIGHT
BEGIN:STANDARD
TZOFFSETFROM:+0200
TZOFFSETTO:+0100
TZNAME:CET
DTSTART:20211031T010000
END:STANDARD
BEGIN:DAYLIGHT
TZOFFSETFROM:+0100
TZOFFSETTO:+0200
TZNAME:CEST
DTSTART:20220327T010000
END:DAYLIGHT
BEGIN:STANDARD
TZOFFSETFROM:+0200
TZOFFSETTO:+0100
TZNAME:CET
DTSTART:20221030T010000
END:STANDARD
END:VTIMEZONE
BEGIN:VEVENT
DTSTART;VALUE=DATE:20211122
DTEND;VALUE=DATE:20211125
DTSTAMP:20260421T130445
CREATED:20211120T083231Z
LAST-MODIFIED:20211122T134609Z
UID:1716-1637539200-1637798399@www.global-amlcft.eu
SUMMARY:Regional Conference on FATF Rec 8 - Mauritius
DESCRIPTION:[vc_row type=”in_container” full_screen_row_position=”middle” column_margin=”default” column_direction=”default” column_direction_tablet=”default” column_direction_phone=”default” scene_position=”center” text_color=”dark” text_align=”left” row_border_radius=”none” row_border_radius_applies=”bg” overlay_strength=”0.3″ gradient_direction=”left_to_right” shape_divider_position=”bottom” bg_image_animation=”none”][vc_column column_padding=”no-extra-padding” column_padding_tablet=”inherit” column_padding_phone=”inherit” column_padding_position=”all” column_element_spacing=”default” background_color_opacity=”1″ background_hover_color_opacity=”1″ column_shadow=”none” column_border_radius=”none” column_link_target=”_self” gradient_direction=”left_to_right” overlay_strength=”0.3″ width=”1/1″ tablet_width_inherit=”default” tablet_text_alignment=”default” phone_text_alignment=”default” bg_image_animation=”none” border_type=”simple” column_border_width=”none” column_border_style=”solid”][vc_column_text]The Regional Workshop on ‘Compliance with International and EU Requirements concerning the FATF Recommendation 8’ took place on 22-24 November 2021\, at Le Meridien Hotel in Mauritius. \nIt was organised by the EU Global Facility on Anti-Money Laundering and Counter-Terrorist Financing in collaboration with the Ministry of Financial Services and Good Governance of Mauritius. \nThe workshop\, which will run through Wednesday 24 November 2021\, witnesses the participation of representatives from Mauritius\, Panama\, Madagascar\, Bangladesh\, the Seychelles\, Tunisia\, Jordan\, Zambia\, among others. It seeks to allow regulators from Non-Profit Organisations (NPOs) and representatives of Financial Intelligence Units (FIU) to exchange best practices and challenges faced among themselves and with the EU and other states on the applied methodology\, chosen policies and work undertaken to ensure compliance of their legislation and practice with FATF Recommendation 8 requirements. \nThe event will also provide a tangible opportunity to proceed with concrete steps to promote effective supervision of NPOs and ultimately assist in relevant mutual evaluation assessments in relation to the said recommendation by the participating states. On the last day of the workshop\, the Global Facility will also present its recent research report titled “Typologies of the Illicit Financial Abuse of NPO Sector – Specificity\, Complexity\, Complicity and Harm”. \nIn his keynote address to the audience\, Minister of Financial Services and Good Governance\, Hon. Mahen Kumar Seeruttun thanked the EU Global Facility for its “unwavering support to Mauritius at all times\,” noting that “the EU Global Facility has provided us with technical assistance whenever requested\, providing us with the highest quality of support and experts.” \nTeam Leader of the EU Global Facility\, David Hotte\, congratulated Mauritian partners on the successful delisting from the FATF grey list in October 2021\, saying “we are very proud to have contributed\, along with other international partners like GIZ\, the UK\, IMF and the UN\, among others\, to the delisting of Mauritius and we will continue working together even after this milestone. It is only the beginning of a new and promising era.” \nFor his part\, Ambassador and Head of the EU Delegation\, H.E. Vincent Degert\, commended the government\, civil servants and public sector of Mauritius\, stating “the government has repeatedly expressed its wish to address all ESAAMLG recommendations and to improve all their immediate outcomes scores\, thus to become a role model for many countries worldwide.” \n“I can only felicitate this attitude as it is very important that the current momentum for reform is maintained\, to make these achievements sustainable and far-reaching\, building on the very relevant tools that were developed with the help of the EU Global Facility assistance and of the other international donors and continuing their capacity building to be able to reach concrete results.” \nThe workshop is part of a series of activities organised by the EU Global Facility in Mauritius from November 16 to 25th\, 2021.[/vc_column_text][/vc_column][/vc_row][vc_row type=”in_container” full_screen_row_position=”middle” column_margin=”default” column_direction=”default” column_direction_tablet=”default” column_direction_phone=”default” scene_position=”center” text_color=”dark” text_align=”left” row_border_radius=”none” row_border_radius_applies=”bg” overlay_strength=”0.3″ gradient_direction=”left_to_right” shape_divider_position=”bottom” bg_image_animation=”none”][vc_column column_padding=”no-extra-padding” column_padding_tablet=”inherit” column_padding_phone=”inherit” column_padding_position=”all” column_element_spacing=”default” background_color_opacity=”1″ background_hover_color_opacity=”1″ column_shadow=”none” column_border_radius=”none” column_link_target=”_self” gradient_direction=”left_to_right” overlay_strength=”0.3″ width=”1/2″ tablet_width_inherit=”default” tablet_text_alignment=”default” phone_text_alignment=”default” bg_image_animation=”none” border_type=”simple” column_border_width=”none” column_border_style=”solid”][nectar_cta btn_style=”see-through” heading_tag=”h6″ button_color=”default” link_type=”regular” alignment=”left” alignment_tablet=”default” alignment_phone=”default” display=”block” link_text=”Learn more about our work with Mauritius” url=”https://www.global-amlcft.eu/where-we-work/mauritius-aml-cft/”][/vc_column][vc_column column_padding=”no-extra-padding” column_padding_tablet=”inherit” column_padding_phone=”inherit” column_padding_position=”all” column_element_spacing=”default” background_color_opacity=”1″ background_hover_color_opacity=”1″ column_shadow=”none” column_border_radius=”none” column_link_target=”_self” gradient_direction=”left_to_right” overlay_strength=”0.3″ width=”1/2″ tablet_width_inherit=”default” tablet_text_alignment=”default” phone_text_alignment=”default” bg_image_animation=”none” border_type=”simple” column_border_width=”none” column_border_style=”solid”][nectar_cta btn_style=”see-through” heading_tag=”h6″ button_color=”default” link_type=”regular” alignment=”left” alignment_tablet=”default” alignment_phone=”default” display=”block” link_text=”See pictures of the event” url=”https://www.global-amlcft.eu/images-videos/”][/vc_column][/vc_row]
URL:https://www.global-amlcft.eu/event/regional-conference-on-fatf-rec-8-mauritius/
LOCATION:Mauritius\, Mauritius
CATEGORIES:(On-site) Regional Conference
ATTACH;FMTTYPE=image/jpeg:https://www.global-amlcft.eu/wp-content/uploads/2021/11/IRF_0168.jpg
ORGANIZER;CN="EU AML/CFT Global Facility":MAILTO:info@global-amlcft.eu
END:VEVENT
BEGIN:VEVENT
DTSTART;VALUE=DATE:20211123
DTEND;VALUE=DATE:20211125
DTSTAMP:20260421T130445
CREATED:20211123T064936Z
LAST-MODIFIED:20211123T065207Z
UID:1779-1637625600-1637798399@www.global-amlcft.eu
SUMMARY:Operational Terrorist Financing Table Top Exercise in Mauritius
DESCRIPTION:[vc_row type=”in_container” full_screen_row_position=”middle” column_margin=”default” column_direction=”default” column_direction_tablet=”default” column_direction_phone=”default” scene_position=”center” text_color=”dark” text_align=”left” row_border_radius=”none” row_border_radius_applies=”bg” overlay_strength=”0.3″ gradient_direction=”left_to_right” shape_divider_position=”bottom” bg_image_animation=”none”][vc_column column_padding=”no-extra-padding” column_padding_tablet=”inherit” column_padding_phone=”inherit” column_padding_position=”all” column_element_spacing=”default” background_color_opacity=”1″ background_hover_color_opacity=”1″ column_shadow=”none” column_border_radius=”none” column_link_target=”_self” gradient_direction=”left_to_right” overlay_strength=”0.3″ width=”1/1″ tablet_width_inherit=”default” tablet_text_alignment=”default” phone_text_alignment=”default” bg_image_animation=”none” border_type=”simple” column_border_width=”none” column_border_style=”solid”][vc_column_text]The EU AML-CFT Global Facility will deliver a Table Top Training Event to AML-CFT agencies and their partners in Mauritius on 23-24 November 2021. \nThe workshop will use a live exercise involving CT officers\, law enforcement and prosecutors in relation to exploiting fast time financial intelligence in the investigation of counter terrorism. \nThe exercise will take the form of a Table Top Training Event where attendees will be facilitated through a realistic terrorist simulation towards the stated objectives below. The simulation will outline a large terrorist event and will then focus on developing financial investigation and intelligence activity that will support the simulated criminal justice event. The exercice will be based on the geography and local economy of the Mauritius environment \nThe learning facilitation will lead the participants towards the identification of the financial footprint that pre-and-post terrorism attack activity leaves. Further participant analysis will allow for the development of an immediate financial investigative action plan that will steer and advise the local Mauritian authorities should an incident occur. \nUltimately\, the activity seeks to support Mauritian partners to improve their capacities to: \n\n– Prevent and detect the funding of terrorism – utilising the ITAC model.\n– Support the investigation of a terrorist attack through the utilisation of Financial Intelligence including ‘crimes in action’ utilising a Post Incident Financial Investigation Actions Plan.\n– Outline the financial behaviours  that indicate operational terrorist financing to aid preventative and post incident investigations.\n\n[/vc_column_text][/vc_column][/vc_row]
URL:https://www.global-amlcft.eu/event/operational-terrorist-financing-table-top-exercise-in-mauritius/
LOCATION:Mauritius\, Mauritius
CATEGORIES:(On-site) Regional Conference
ATTACH;FMTTYPE=image/jpeg:https://www.global-amlcft.eu/wp-content/uploads/2021/11/250954024_604856820834203_4731506007157661998_n-e1637647700480.jpg
ORGANIZER;CN="EU AML/CFT Global Facility":MAILTO:info@global-amlcft.eu
END:VEVENT
BEGIN:VEVENT
DTSTART;VALUE=DATE:20211123
DTEND;VALUE=DATE:20211126
DTSTAMP:20260421T130445
CREATED:20211123T075839Z
LAST-MODIFIED:20211203T115520Z
UID:1783-1637625600-1637884799@www.global-amlcft.eu
SUMMARY:BO Disclosure Framework workshop with the Bank of Mauritius
DESCRIPTION:[vc_row type=”in_container” full_screen_row_position=”middle” column_margin=”default” column_direction=”default” column_direction_tablet=”default” column_direction_phone=”default” scene_position=”center” text_color=”dark” text_align=”left” row_border_radius=”none” row_border_radius_applies=”bg” overlay_strength=”0.3″ gradient_direction=”left_to_right” shape_divider_position=”bottom” bg_image_animation=”none”][vc_column column_padding=”no-extra-padding” column_padding_tablet=”inherit” column_padding_phone=”inherit” column_padding_position=”all” column_element_spacing=”default” background_color_opacity=”1″ background_hover_color_opacity=”1″ column_shadow=”none” column_border_radius=”none” column_link_target=”_self” gradient_direction=”left_to_right” overlay_strength=”0.3″ width=”1/1″ tablet_width_inherit=”default” tablet_text_alignment=”default” phone_text_alignment=”default” bg_image_animation=”none” border_type=”simple” column_border_width=”none” column_border_style=”solid”][vc_column_text]The three-day onsite workshop tackled the topic of “BO disclosure frameworks\, supervisors and obliged entities: from multi-pronged approach to multi stakeholder engagement“. \nOrganised jointly by the EU AML/CFT Global Facility and the Bank Of Mauritius\, the workshop constitutes the result of several joint activities conducted in the past month aimed of enhancing the understanding and effective implementation of Beneficial Ownership disclosure standards in Mauritius\, by both the BoM and the obliged entities under its supervision. \nThis engaging public-private perspective resulted in dedicated “Beneficial Ownership Identification and Verification Guidelines” as well as a dedicated “Beneficial Ownership Supervision Handbook”. These Guidelines and Handbook will be extensively discussed with the BoM as well as other supervisors (e.g.\, FSC\, FIU\, AGO\, MIPA) and their obliged entities under supervision during the course of the workshop. \nPress Communiqué of the activity: \nFinancial Services: Workshop to reinforce capacity of financial institutions supervisors \nOur team led by Arnaud Stien and Alexandre Taymans led discussions focused on the key features and challenges of international and EU BO standards\, outreach tools that can be implemented as well as supervisory and sanctioning mechanisms available. New areas of cooperation were also discussed. \nIn his address\, First Deputy Governor of the BoM Mr Kona Yerukunondu expressed gratitude to EU Global Facility for their “invaluable support to implement the International Co-operation Review Group (ICRG) action plan and the country’s exit from the FATF’s grey list”.\n“Experts of EU Global Facility have been a key partner for Mauritius to improve techniques on AML/CFT and I am confident that the assistance provided by the EU will significantly enhance the skills of supervisors as they are highly instrumental in bringing industry practices at par with global standards.” \nMr Kona Yerukunondu also emphasised the importance of education as an effective tool to transform compliance cultures for organisations. \nMr Arnaud Stien underlined the opportunities arising for the country following its delisting from the FATF grey list.\n“It is crucial to keep the momentum high as Mauritius embarks on a new journey as a global community. For the way forward\, Mauritius needs to stay compliant and we will continue supporting the country in new areas of cooperation in the future.”[/vc_column_text][/vc_column][/vc_row][vc_row type=”in_container” full_screen_row_position=”middle” column_margin=”default” column_direction=”default” column_direction_tablet=”default” column_direction_phone=”default” scene_position=”center” text_color=”dark” text_align=”left” row_border_radius=”none” row_border_radius_applies=”bg” overlay_strength=”0.3″ gradient_direction=”left_to_right” shape_divider_position=”bottom” bg_image_animation=”none”][vc_column column_padding=”no-extra-padding” column_padding_tablet=”inherit” column_padding_phone=”inherit” column_padding_position=”all” column_element_spacing=”default” background_color_opacity=”1″ background_hover_color_opacity=”1″ column_shadow=”none” column_border_radius=”none” column_link_target=”_self” gradient_direction=”left_to_right” overlay_strength=”0.3″ width=”1/2″ tablet_width_inherit=”default” tablet_text_alignment=”default” phone_text_alignment=”default” bg_image_animation=”none” border_type=”simple” column_border_width=”none” column_border_style=”solid”][nectar_cta btn_style=”see-through” heading_tag=”h6″ button_color=”default” link_type=”regular” alignment=”left” alignment_tablet=”default” alignment_phone=”default” display=”block” link_text=”Learn more about our work with Mauritius” url=”https://www.global-amlcft.eu/where-we-work/mauritius-aml-cft/”][/vc_column][vc_column column_padding=”no-extra-padding” column_padding_tablet=”inherit” column_padding_phone=”inherit” column_padding_position=”all” column_element_spacing=”default” background_color_opacity=”1″ background_hover_color_opacity=”1″ column_shadow=”none” column_border_radius=”none” column_link_target=”_self” gradient_direction=”left_to_right” overlay_strength=”0.3″ width=”1/2″ tablet_width_inherit=”default” tablet_text_alignment=”default” phone_text_alignment=”default” bg_image_animation=”none” border_type=”simple” column_border_width=”none” column_border_style=”solid”][nectar_cta btn_style=”see-through” heading_tag=”h6″ button_color=”default” link_type=”regular” alignment=”left” alignment_tablet=”default” alignment_phone=”default” display=”block” link_text=”See pictures of the activity” url=”https://www.global-amlcft.eu/images-videos/”][/vc_column][/vc_row]
URL:https://www.global-amlcft.eu/event/bo-disclosure-framework-workshop-with-the-bank-of-mauritius/
CATEGORIES:(On-site) Regional Conference
ATTACH;FMTTYPE=image/jpeg:https://www.global-amlcft.eu/wp-content/uploads/2021/11/DSC_6349.jpg
ORGANIZER;CN="EU AML/CFT Global Facility":MAILTO:info@global-amlcft.eu
END:VEVENT
END:VCALENDAR