
 BEGIN:VCALENDAR
VERSION:2.0
PRODID:-//EU AML/CFT Global Facility - ECPv6.15.20//NONSGML v1.0//EN
CALSCALE:GREGORIAN
METHOD:PUBLISH
X-WR-CALNAME:EU AML/CFT Global Facility
X-ORIGINAL-URL:https://www.global-amlcft.eu
X-WR-CALDESC:Events for EU AML/CFT Global Facility
REFRESH-INTERVAL;VALUE=DURATION:PT1H
X-Robots-Tag:noindex
X-PUBLISHED-TTL:PT1H
BEGIN:VTIMEZONE
TZID:Europe/Paris
BEGIN:DAYLIGHT
TZOFFSETFROM:+0100
TZOFFSETTO:+0200
TZNAME:CEST
DTSTART:20200329T010000
END:DAYLIGHT
BEGIN:STANDARD
TZOFFSETFROM:+0200
TZOFFSETTO:+0100
TZNAME:CET
DTSTART:20201025T010000
END:STANDARD
BEGIN:DAYLIGHT
TZOFFSETFROM:+0100
TZOFFSETTO:+0200
TZNAME:CEST
DTSTART:20210328T010000
END:DAYLIGHT
BEGIN:STANDARD
TZOFFSETFROM:+0200
TZOFFSETTO:+0100
TZNAME:CET
DTSTART:20211031T010000
END:STANDARD
BEGIN:DAYLIGHT
TZOFFSETFROM:+0100
TZOFFSETTO:+0200
TZNAME:CEST
DTSTART:20220327T010000
END:DAYLIGHT
BEGIN:STANDARD
TZOFFSETFROM:+0200
TZOFFSETTO:+0100
TZNAME:CET
DTSTART:20221030T010000
END:STANDARD
END:VTIMEZONE
BEGIN:VEVENT
DTSTART;VALUE=DATE:20211117
DTEND;VALUE=DATE:20211118
DTSTAMP:20260421T021811
CREATED:20211129T130623Z
LAST-MODIFIED:20211129T130908Z
UID:1851-1637107200-1637193599@www.global-amlcft.eu
SUMMARY:Wrap up workshop with the Mauritian Gaming Regulatory Authority
DESCRIPTION:[vc_row type=”in_container” full_screen_row_position=”middle” column_margin=”default” column_direction=”default” column_direction_tablet=”default” column_direction_phone=”default” scene_position=”center” text_color=”dark” text_align=”left” row_border_radius=”none” row_border_radius_applies=”bg” overlay_strength=”0.3″ gradient_direction=”left_to_right” shape_divider_position=”bottom” bg_image_animation=”none”][vc_column column_padding=”no-extra-padding” column_padding_tablet=”inherit” column_padding_phone=”inherit” column_padding_position=”all” column_element_spacing=”default” background_color_opacity=”1″ background_hover_color_opacity=”1″ column_shadow=”none” column_border_radius=”none” column_link_target=”_self” gradient_direction=”left_to_right” overlay_strength=”0.3″ width=”1/1″ tablet_width_inherit=”default” tablet_text_alignment=”default” phone_text_alignment=”default” bg_image_animation=”none” border_type=”simple” column_border_width=”none” column_border_style=”solid”][vc_column_text]On 17 November 2021\, our Key Expert on Regulation Arnaud Stien and Joseph Attard met with the Gaming Regulatory Authority of Mauritius as a way to wrap up the technical assistance programme started two years ago.\nThis also marked the kick off of a new cooperation phase with the country\, paving the way for its ‘resilience’ after its delisting. \nIn October 2021\, the Financial Action Task Force (FATF) announced the removal of Mauritius from the list of high-risk third countries with regards to anti-money laundering and counter-terrorist financing. The country had previously been listed in June 2020. \nFrom June 2019 until November 2021\, the EU Global Facility has provided continuous technical assistance through various training and activities to help Mauritian authorities and AML/CFT actors rectify the strategic deficiencies in its national anti-money laundering and counter-terrorist financing framework to be removed from the list.[/vc_column_text][/vc_column][/vc_row][vc_row type=”in_container” full_screen_row_position=”middle” column_margin=”default” column_direction=”default” column_direction_tablet=”default” column_direction_phone=”default” scene_position=”center” text_color=”dark” text_align=”left” row_border_radius=”none” row_border_radius_applies=”bg” overlay_strength=”0.3″ gradient_direction=”left_to_right” shape_divider_position=”bottom” bg_image_animation=”none”][vc_column column_padding=”no-extra-padding” column_padding_tablet=”inherit” column_padding_phone=”inherit” column_padding_position=”all” column_element_spacing=”default” background_color_opacity=”1″ background_hover_color_opacity=”1″ column_shadow=”none” column_border_radius=”none” column_link_target=”_self” gradient_direction=”left_to_right” overlay_strength=”0.3″ width=”1/1″ tablet_width_inherit=”default” tablet_text_alignment=”default” phone_text_alignment=”default” bg_image_animation=”none” border_type=”simple” column_border_width=”none” column_border_style=”solid”][nectar_cta btn_style=”see-through” heading_tag=”h6″ button_color=”default” link_type=”regular” alignment=”left” alignment_tablet=”default” alignment_phone=”default” display=”block” link_text=”Learn more about our work with Mauritius” url=”https://www.global-amlcft.eu/where-we-work/mauritius-aml-cft/”][/vc_column][/vc_row]
URL:https://www.global-amlcft.eu/event/wrap-up-workshop-with-the-mauritian-gaming-regulatory-authority/
CATEGORIES:(On-site) Regional Conference
ATTACH;FMTTYPE=image/jpeg:https://www.global-amlcft.eu/wp-content/uploads/2021/11/Gambling-17112021.jpeg
ORGANIZER;CN="EU AML/CFT Global Facility":MAILTO:info@global-amlcft.eu
END:VEVENT
END:VCALENDAR