
 BEGIN:VCALENDAR
VERSION:2.0
PRODID:-//EU AML/CFT Global Facility - ECPv6.15.20//NONSGML v1.0//EN
CALSCALE:GREGORIAN
METHOD:PUBLISH
X-WR-CALNAME:EU AML/CFT Global Facility
X-ORIGINAL-URL:https://www.global-amlcft.eu
X-WR-CALDESC:Events for EU AML/CFT Global Facility
REFRESH-INTERVAL;VALUE=DURATION:PT1H
X-Robots-Tag:noindex
X-PUBLISHED-TTL:PT1H
BEGIN:VTIMEZONE
TZID:Europe/Paris
BEGIN:DAYLIGHT
TZOFFSETFROM:+0100
TZOFFSETTO:+0200
TZNAME:CEST
DTSTART:20210328T010000
END:DAYLIGHT
BEGIN:STANDARD
TZOFFSETFROM:+0200
TZOFFSETTO:+0100
TZNAME:CET
DTSTART:20211031T010000
END:STANDARD
BEGIN:DAYLIGHT
TZOFFSETFROM:+0100
TZOFFSETTO:+0200
TZNAME:CEST
DTSTART:20220327T010000
END:DAYLIGHT
BEGIN:STANDARD
TZOFFSETFROM:+0200
TZOFFSETTO:+0100
TZNAME:CET
DTSTART:20221030T010000
END:STANDARD
BEGIN:DAYLIGHT
TZOFFSETFROM:+0100
TZOFFSETTO:+0200
TZNAME:CEST
DTSTART:20230326T010000
END:DAYLIGHT
BEGIN:STANDARD
TZOFFSETFROM:+0200
TZOFFSETTO:+0100
TZNAME:CET
DTSTART:20231029T010000
END:STANDARD
END:VTIMEZONE
BEGIN:VEVENT
DTSTART;VALUE=DATE:20220926
DTEND;VALUE=DATE:20221001
DTSTAMP:20260425T182030
CREATED:20220926T154420Z
LAST-MODIFIED:20220926T154420Z
UID:3652-1664150400-1664582399@www.global-amlcft.eu
SUMMARY:E-training of regulators/authorities of South Africa on FATF Rec 8
DESCRIPTION:[vc_row type=”in_container” full_screen_row_position=”middle” column_margin=”default” column_direction=”default” column_direction_tablet=”default” column_direction_phone=”default” scene_position=”center” text_color=”dark” text_align=”left” row_border_radius=”none” row_border_radius_applies=”bg” overflow=”visible” overlay_strength=”0.3″ gradient_direction=”left_to_right” shape_divider_position=”bottom” bg_image_animation=”none”][vc_column column_padding=”no-extra-padding” column_padding_tablet=”inherit” column_padding_phone=”inherit” column_padding_position=”all” column_element_spacing=”default” background_color_opacity=”1″ background_hover_color_opacity=”1″ column_shadow=”none” column_border_radius=”none” column_link_target=”_self” column_position=”default” gradient_direction=”left_to_right” overlay_strength=”0.3″ width=”1/1″ tablet_width_inherit=”default” tablet_text_alignment=”default” phone_text_alignment=”default” animation_type=”default” bg_image_animation=”none” border_type=”simple” column_border_width=”none” column_border_style=”solid”][vc_column_text]Today\, the EU Global Facility kicked off its first activity with South Africa 🇿🇦\, in the form of an e-training on Financial Action Task Force (FATF) Recommendation 8. \nOpened by Ambassador of the European Union to South Africa\, Sandra Kramer\, the Director of the Financial Intelligence Centre of South Africa\, Xolisile Khanyile\, and EU GF Team Leader\, David Hotte\, the online training will span over the course of four days. \nIt is targeted at regulators and authorities of South Africa\, and seeks to recall the main criteria and requirements of the FATF Recommendation on Not-for-Profit Organisations. \nThis constitutes one of the main topics of the EU Global Facility’s engagement with South Africa\, which has recently been agreed with the partner country’s authorities.[/vc_column_text][/vc_column][/vc_row]
URL:https://www.global-amlcft.eu/event/e-training-of-regulators-authorities-of-south-africa-on-fatf-rec-8/
LOCATION:South Africa\, South Africa
CATEGORIES:(Onsite) Bilateral training
ATTACH;FMTTYPE=image/jpeg:https://www.global-amlcft.eu/wp-content/uploads/2022/09/WhatsApp-Image-2022-09-26-at-11.03.24.jpeg
ORGANIZER;CN="EU AML/CFT Global Facility":MAILTO:info@global-amlcft.eu
END:VEVENT
END:VCALENDAR