
 BEGIN:VCALENDAR
VERSION:2.0
PRODID:-//EU AML/CFT Global Facility - ECPv6.15.20//NONSGML v1.0//EN
CALSCALE:GREGORIAN
METHOD:PUBLISH
X-WR-CALNAME:EU AML/CFT Global Facility
X-ORIGINAL-URL:https://www.global-amlcft.eu
X-WR-CALDESC:Events for EU AML/CFT Global Facility
REFRESH-INTERVAL;VALUE=DURATION:PT1H
X-Robots-Tag:noindex
X-PUBLISHED-TTL:PT1H
BEGIN:VTIMEZONE
TZID:Europe/Paris
BEGIN:DAYLIGHT
TZOFFSETFROM:+0100
TZOFFSETTO:+0200
TZNAME:CEST
DTSTART:20210328T010000
END:DAYLIGHT
BEGIN:STANDARD
TZOFFSETFROM:+0200
TZOFFSETTO:+0100
TZNAME:CET
DTSTART:20211031T010000
END:STANDARD
BEGIN:DAYLIGHT
TZOFFSETFROM:+0100
TZOFFSETTO:+0200
TZNAME:CEST
DTSTART:20220327T010000
END:DAYLIGHT
BEGIN:STANDARD
TZOFFSETFROM:+0200
TZOFFSETTO:+0100
TZNAME:CET
DTSTART:20221030T010000
END:STANDARD
BEGIN:DAYLIGHT
TZOFFSETFROM:+0100
TZOFFSETTO:+0200
TZNAME:CEST
DTSTART:20230326T010000
END:DAYLIGHT
BEGIN:STANDARD
TZOFFSETFROM:+0200
TZOFFSETTO:+0100
TZNAME:CET
DTSTART:20231029T010000
END:STANDARD
END:VTIMEZONE
BEGIN:VEVENT
DTSTART;VALUE=DATE:20220628
DTEND;VALUE=DATE:20220629
DTSTAMP:20260426T005835
CREATED:20220628T130954Z
LAST-MODIFIED:20220629T082958Z
UID:2839-1656374400-1656460799@www.global-amlcft.eu
SUMMARY:BO discussions series 1: Disclosure frameworks and the NPO sector
DESCRIPTION:[vc_row type=”in_container” full_screen_row_position=”middle” column_margin=”default” column_direction=”default” column_direction_tablet=”default” column_direction_phone=”default” scene_position=”center” text_color=”dark” text_align=”left” row_border_radius=”none” row_border_radius_applies=”bg” overflow=”visible” overlay_strength=”0.3″ gradient_direction=”left_to_right” shape_divider_position=”bottom” bg_image_animation=”none”][vc_column column_padding=”no-extra-padding” column_padding_tablet=”inherit” column_padding_phone=”inherit” column_padding_position=”all” column_element_spacing=”default” background_color_opacity=”1″ background_hover_color_opacity=”1″ column_shadow=”none” column_border_radius=”none” column_link_target=”_self” column_position=”default” gradient_direction=”left_to_right” overlay_strength=”0.3″ width=”1/1″ tablet_width_inherit=”default” tablet_text_alignment=”default” phone_text_alignment=”default” animation_type=”default” bg_image_animation=”none” border_type=”simple” column_border_width=”none” column_border_style=”solid”][vc_column_text]Joint activity launched by our Key Expert on Beneficial Ownership Alexandre Taymans and Key Expert on Justice/CSOs Mamuka Jgenti. \nOn 28 June 2022\, they opened the first in a series of two online workshops titled “Beneficial Ownership disclosure frameworks and the NPO sector: implementation challenges and opportunities”. \nThis first workshop\, which focuses on the regulatory context and the efficiency/effectiveness gaps in the sector\, is gathering subject matter experts representing the various sectors and stakeholders involved in the implementation of the Financial Action Task Force (FATF) beneficial ownership multi-pronged approach (e.g. NPOs\, beneficial ownership registers\, banking sector\, RegTech\, research). \nThe second workshop\, scheduled for 5 July 2022\, will focus on identifying concerns and discussing if and how BO Registers can address (some of) the concerns raised. \nFor each session\, specific experts have been identified and will be invited to present and participate to the discussion on the topic at hand based on their background and area of expertise. \nThe objectives of these two workshops are to: \n\nidentify the impact observed of BO disclosure frameworks on the NPO sector\,\ndiscuss the possible ways in which to embed the risk based approach in the design of these framework\,\nhow BO registers could serve as a tool to provide remedies to the unintended consequences on the NPO sector that have been observed over the years.\n\nFurther to these workshops\, a joint report will be drafted by the Global NPO Coalition and the Global Facility that will detail the findings and possible ways in which this discussion could be brought forth.[/vc_column_text][/vc_column][/vc_row]
URL:https://www.global-amlcft.eu/event/bo-disclosure-frameworks-and-the-npo-sector/
CATEGORIES:E-workshop/training
ATTACH;FMTTYPE=image/png:https://www.global-amlcft.eu/wp-content/uploads/2022/06/Screenshot-2022-06-28-at-15.07.28-1.png
ORGANIZER;CN="EU AML/CFT Global Facility":MAILTO:info@global-amlcft.eu
END:VEVENT
END:VCALENDAR