
 BEGIN:VCALENDAR
VERSION:2.0
PRODID:-//EU AML/CFT Global Facility - ECPv6.15.20//NONSGML v1.0//EN
CALSCALE:GREGORIAN
METHOD:PUBLISH
X-ORIGINAL-URL:https://www.global-amlcft.eu
X-WR-CALDESC:Events for EU AML/CFT Global Facility
REFRESH-INTERVAL;VALUE=DURATION:PT1H
X-Robots-Tag:noindex
X-PUBLISHED-TTL:PT1H
BEGIN:VTIMEZONE
TZID:Europe/Paris
BEGIN:DAYLIGHT
TZOFFSETFROM:+0100
TZOFFSETTO:+0200
TZNAME:CEST
DTSTART:20210328T010000
END:DAYLIGHT
BEGIN:STANDARD
TZOFFSETFROM:+0200
TZOFFSETTO:+0100
TZNAME:CET
DTSTART:20211031T010000
END:STANDARD
BEGIN:DAYLIGHT
TZOFFSETFROM:+0100
TZOFFSETTO:+0200
TZNAME:CEST
DTSTART:20220327T010000
END:DAYLIGHT
BEGIN:STANDARD
TZOFFSETFROM:+0200
TZOFFSETTO:+0100
TZNAME:CET
DTSTART:20221030T010000
END:STANDARD
BEGIN:DAYLIGHT
TZOFFSETFROM:+0100
TZOFFSETTO:+0200
TZNAME:CEST
DTSTART:20230326T010000
END:DAYLIGHT
BEGIN:STANDARD
TZOFFSETFROM:+0200
TZOFFSETTO:+0100
TZNAME:CET
DTSTART:20231029T010000
END:STANDARD
END:VTIMEZONE
BEGIN:VEVENT
DTSTART;VALUE=DATE:20220620
DTEND;VALUE=DATE:20220625
DTSTAMP:20260425T233002
CREATED:20220618T083321Z
LAST-MODIFIED:20220618T083321Z
UID:2779-1655683200-1656115199@www.global-amlcft.eu
SUMMARY:E-training for Jamaican prosecutors on confiscation
DESCRIPTION:[vc_row type=”in_container” full_screen_row_position=”middle” column_margin=”default” column_direction=”default” column_direction_tablet=”default” column_direction_phone=”default” scene_position=”center” text_color=”dark” text_align=”left” row_border_radius=”none” row_border_radius_applies=”bg” overflow=”visible” overlay_strength=”0.3″ gradient_direction=”left_to_right” shape_divider_position=”bottom” bg_image_animation=”none”][vc_column column_padding=”no-extra-padding” column_padding_tablet=”inherit” column_padding_phone=”inherit” column_padding_position=”all” column_element_spacing=”default” background_color_opacity=”1″ background_hover_color_opacity=”1″ column_shadow=”none” column_border_radius=”none” column_link_target=”_self” column_position=”default” gradient_direction=”left_to_right” overlay_strength=”0.3″ width=”1/1″ tablet_width_inherit=”default” tablet_text_alignment=”default” phone_text_alignment=”default” animation_type=”default” bg_image_animation=”none” border_type=”simple” column_border_width=”none” column_border_style=”solid”][vc_column_text]The e-training of Jamaican prosecutors on confiscation is the second e-training activity conducted with Jamaica under the Justice component.\nParticipants shall be from prosecutions service and the event is a part of the technical assistance under the justice component recently launched with the Jamaican authorities.\nThis e-training shall focus on the following topics: International standards on ML and confiscation\, introduction to ML; Continuation of introduction to money laundering\, elements of crime\, types of ML\, standard of proof\, use of typologies\, etc.[/vc_column_text][/vc_column][/vc_row]
URL:https://www.global-amlcft.eu/event/e-training-for-jamaican-prosecutors-on-confiscation/
LOCATION:Jamaica\, Jamaica
CATEGORIES:(Onsite) Bilateral training
ORGANIZER;CN="EU AML/CFT Global Facility":MAILTO:info@global-amlcft.eu
END:VEVENT
BEGIN:VEVENT
DTSTART;VALUE=DATE:20220623
DTEND;VALUE=DATE:20220625
DTSTAMP:20260425T233002
CREATED:20220618T083612Z
LAST-MODIFIED:20220628T125247Z
UID:2781-1655942400-1656115199@www.global-amlcft.eu
SUMMARY:Workshop on BO registers as Competent Authorities in Brussels
DESCRIPTION:[vc_row type=”in_container” full_screen_row_position=”middle” column_margin=”default” column_direction=”default” column_direction_tablet=”default” column_direction_phone=”default” scene_position=”center” text_color=”dark” text_align=”left” row_border_radius=”none” row_border_radius_applies=”bg” overflow=”visible” overlay_strength=”0.3″ gradient_direction=”left_to_right” shape_divider_position=”bottom” bg_image_animation=”none”][vc_column column_padding=”no-extra-padding” column_padding_tablet=”inherit” column_padding_phone=”inherit” column_padding_position=”all” column_element_spacing=”default” background_color_opacity=”1″ background_hover_color_opacity=”1″ column_shadow=”none” column_border_radius=”none” column_link_target=”_self” column_position=”default” gradient_direction=”left_to_right” overlay_strength=”0.3″ width=”1/1″ tablet_width_inherit=”default” tablet_text_alignment=”default” phone_text_alignment=”default” animation_type=”default” bg_image_animation=”none” border_type=”simple” column_border_width=”none” column_border_style=”solid”][vc_column_text]The EU AML/CFT Global Facility is in the process of exploring the current approach to Beneficial Ownership Registers and exploring solutions and potential ways forward that can also be shared in the context of our technical assistance activities to partners jurisdictions. In particular\, we are exploring the possibility of Beneficial Ownership Registers evolving into Competent Authorities. \nIn this context\, the Global Facility organised a working group of experts who deal with these issues first-hand. The purpose of the event was to delve deeper into the topic\, discuss challenges and lessons learnt and put forward an approach for more effective national and cross border beneficial ownership disclosure frameworks.\nThe session involved only a small number of participants from Beneficial Ownership Registers and FIUs\, creating an opportunity to meet\, network and exchange ideas with colleagues on a very topical matter. \n  \nIn their words:\nAlfred Zammit\, Deputy Director at the Financial Intelligence Unit of Malta\, reflects on the activity: \n“It was a pleasure for me to be able to contribute to the interesting discussions that we had in Brussels\, and to share Malta’s experiences and best practices on the topic of beneficial ownership\,” he stated after the workshop. \n“It was also interesting and useful to hear about the experiences\, practices and challenges faced by our international colleagues from FIUs and BO registries\, possible solutions\, and above all\, the different approaches implemented on the ground. There’s always so much to learn from each other. Bringing together several representatives from EU member states to have thought-provoking discussions on this topic in a frank and informal setting was a commendable initiative\, and a great way to launch this project.” \n“I hope we can continue to assist you with this project\, and we look forward to its outcome. I have no doubt that the international AML/CFT community will find the guidance and assistance that will come out of this project incredibly useful to strengthen their framework when it comes to BO.”[/vc_column_text][/vc_column][/vc_row]
URL:https://www.global-amlcft.eu/event/workshop-on-bo-registers-as-competent-authorities-in-brussels/
LOCATION:Brussels\, Belgium
CATEGORIES:(On-site) Regional Conference
ATTACH;FMTTYPE=image/jpeg:https://www.global-amlcft.eu/wp-content/uploads/2022/06/WhatsApp-Image-2022-06-24-at-8.37.50-PM.jpeg
ORGANIZER;CN="EU AML/CFT Global Facility":MAILTO:info@global-amlcft.eu
END:VEVENT
END:VCALENDAR