
 BEGIN:VCALENDAR
VERSION:2.0
PRODID:-//EU AML/CFT Global Facility - ECPv6.15.20//NONSGML v1.0//EN
CALSCALE:GREGORIAN
METHOD:PUBLISH
X-ORIGINAL-URL:https://www.global-amlcft.eu
X-WR-CALDESC:Events for EU AML/CFT Global Facility
REFRESH-INTERVAL;VALUE=DURATION:PT1H
X-Robots-Tag:noindex
X-PUBLISHED-TTL:PT1H
BEGIN:VTIMEZONE
TZID:Europe/Paris
BEGIN:DAYLIGHT
TZOFFSETFROM:+0100
TZOFFSETTO:+0200
TZNAME:CEST
DTSTART:20200329T010000
END:DAYLIGHT
BEGIN:STANDARD
TZOFFSETFROM:+0200
TZOFFSETTO:+0100
TZNAME:CET
DTSTART:20201025T010000
END:STANDARD
BEGIN:DAYLIGHT
TZOFFSETFROM:+0100
TZOFFSETTO:+0200
TZNAME:CEST
DTSTART:20210328T010000
END:DAYLIGHT
BEGIN:STANDARD
TZOFFSETFROM:+0200
TZOFFSETTO:+0100
TZNAME:CET
DTSTART:20211031T010000
END:STANDARD
BEGIN:DAYLIGHT
TZOFFSETFROM:+0100
TZOFFSETTO:+0200
TZNAME:CEST
DTSTART:20220327T010000
END:DAYLIGHT
BEGIN:STANDARD
TZOFFSETFROM:+0200
TZOFFSETTO:+0100
TZNAME:CET
DTSTART:20221030T010000
END:STANDARD
END:VTIMEZONE
BEGIN:VEVENT
DTSTART;TZID=Europe/Paris:20211108T080000
DTEND;TZID=Europe/Paris:20211108T113000
DTSTAMP:20260425T163233
CREATED:20211108T083950Z
LAST-MODIFIED:20211108T110846Z
UID:1641-1636358400-1636371000@www.global-amlcft.eu
SUMMARY:E-workshop on Jordan's ML/TF risk assessment for legal persons and arrangements
DESCRIPTION:[vc_row type=”in_container” full_screen_row_position=”middle” column_margin=”default” column_direction=”default” column_direction_tablet=”default” column_direction_phone=”default” scene_position=”center” text_color=”dark” text_align=”left” row_border_radius=”none” row_border_radius_applies=”bg” overlay_strength=”0.3″ gradient_direction=”left_to_right” shape_divider_position=”bottom” bg_image_animation=”none”][vc_column column_padding=”no-extra-padding” column_padding_tablet=”inherit” column_padding_phone=”inherit” column_padding_position=”all” column_element_spacing=”default” background_color_opacity=”1″ background_hover_color_opacity=”1″ column_shadow=”none” column_border_radius=”none” column_link_target=”_self” gradient_direction=”left_to_right” overlay_strength=”0.3″ width=”1/1″ tablet_width_inherit=”default” tablet_text_alignment=”default” phone_text_alignment=”default” bg_image_animation=”none” border_type=”simple” column_border_width=”none” column_border_style=”solid”][vc_column_text]The purpose of this workshop was to present the EU Global Facility’s Methodology for the ML/TF risk assessment of legal persons and arrangements that is to be drafted by Jordan. \nSessions covered topics such as legal entities and arrangements in scope\, threat scenarios and vulnerabilities analysis\, stakeholder engagement as well as outreach strategy.[/vc_column_text][/vc_column][/vc_row][vc_row type=”in_container” full_screen_row_position=”middle” column_margin=”default” column_direction=”default” column_direction_tablet=”default” column_direction_phone=”default” scene_position=”center” text_color=”dark” text_align=”left” row_border_radius=”none” row_border_radius_applies=”bg” overlay_strength=”0.3″ gradient_direction=”left_to_right” shape_divider_position=”bottom” bg_image_animation=”none”][vc_column column_padding=”no-extra-padding” column_padding_tablet=”inherit” column_padding_phone=”inherit” column_padding_position=”all” column_element_spacing=”default” background_color_opacity=”1″ background_hover_color_opacity=”1″ column_shadow=”none” column_border_radius=”none” column_link_target=”_self” gradient_direction=”left_to_right” overlay_strength=”0.3″ width=”1/1″ tablet_width_inherit=”default” tablet_text_alignment=”default” phone_text_alignment=”default” bg_image_animation=”none” border_type=”simple” column_border_width=”none” column_border_style=”solid”][nectar_cta btn_style=”see-through” heading_tag=”h6″ button_color=”default” link_type=”regular” alignment=”left” alignment_tablet=”default” alignment_phone=”default” display=”block” link_text=”Learn more about our work with Jordan” url=”https://www.global-amlcft.eu/where-we-work/jordan-aml-cft/”][/vc_column][/vc_row]
URL:https://www.global-amlcft.eu/event/e-workshop-ml-tf-risk-assessment-jordan/
LOCATION:Jordan
CATEGORIES:E-workshop/training
ATTACH;FMTTYPE=image/jpeg:https://www.global-amlcft.eu/wp-content/uploads/2021/11/WhatsApp-Image-2021-11-08-at-09.16.35-e1636368115931.jpeg
ORGANIZER;CN="EU AML/CFT Global Facility":MAILTO:info@global-amlcft.eu
END:VEVENT
END:VCALENDAR