
 BEGIN:VCALENDAR
VERSION:2.0
PRODID:-//EU AML/CFT Global Facility - ECPv6.15.20//NONSGML v1.0//EN
CALSCALE:GREGORIAN
METHOD:PUBLISH
X-WR-CALNAME:EU AML/CFT Global Facility
X-ORIGINAL-URL:https://www.global-amlcft.eu
X-WR-CALDESC:Events for EU AML/CFT Global Facility
REFRESH-INTERVAL;VALUE=DURATION:PT1H
X-Robots-Tag:noindex
X-PUBLISHED-TTL:PT1H
BEGIN:VTIMEZONE
TZID:Europe/Paris
BEGIN:DAYLIGHT
TZOFFSETFROM:+0100
TZOFFSETTO:+0200
TZNAME:CEST
DTSTART:20200329T010000
END:DAYLIGHT
BEGIN:STANDARD
TZOFFSETFROM:+0200
TZOFFSETTO:+0100
TZNAME:CET
DTSTART:20201025T010000
END:STANDARD
BEGIN:DAYLIGHT
TZOFFSETFROM:+0100
TZOFFSETTO:+0200
TZNAME:CEST
DTSTART:20210328T010000
END:DAYLIGHT
BEGIN:STANDARD
TZOFFSETFROM:+0200
TZOFFSETTO:+0100
TZNAME:CET
DTSTART:20211031T010000
END:STANDARD
BEGIN:DAYLIGHT
TZOFFSETFROM:+0100
TZOFFSETTO:+0200
TZNAME:CEST
DTSTART:20220327T010000
END:DAYLIGHT
BEGIN:STANDARD
TZOFFSETFROM:+0200
TZOFFSETTO:+0100
TZNAME:CET
DTSTART:20221030T010000
END:STANDARD
END:VTIMEZONE
BEGIN:VEVENT
DTSTART;VALUE=DATE:20211103
DTEND;VALUE=DATE:20211105
DTSTAMP:20260425T224232
CREATED:20211104T101525Z
LAST-MODIFIED:20211104T164653Z
UID:1633-1635897600-1636070399@www.global-amlcft.eu
SUMMARY:E-workshop on BO Register Regulation for Jordan
DESCRIPTION:[vc_row type=”in_container” full_screen_row_position=”middle” column_margin=”default” column_direction=”default” column_direction_tablet=”default” column_direction_phone=”default” scene_position=”center” text_color=”dark” text_align=”left” row_border_radius=”none” row_border_radius_applies=”bg” overlay_strength=”0.3″ gradient_direction=”left_to_right” shape_divider_position=”bottom” bg_image_animation=”none”][vc_column column_padding=”no-extra-padding” column_padding_tablet=”inherit” column_padding_phone=”inherit” column_padding_position=”all” column_element_spacing=”default” background_color_opacity=”1″ background_hover_color_opacity=”1″ column_shadow=”none” column_border_radius=”none” column_link_target=”_self” gradient_direction=”left_to_right” overlay_strength=”0.3″ width=”1/1″ tablet_width_inherit=”default” tablet_text_alignment=”default” phone_text_alignment=”default” bg_image_animation=”none” border_type=”simple” column_border_width=”none” column_border_style=”solid”][vc_column_text]This two-day workshop focused on Beneficial Ownership Register Regulation. \nDelivered to the authorities of Jordan\, it witnessed the attendance of representatives from the Anti-Money Laundering Unit\, the Central Bank of Jordan and the Companies Control Department. \nParticipants discussed the topics and key features to be included in BO disclosure frameworks\, such as \n\n-The type of thresholds to use\n-The tools available to ensure consistent implementation and supervision of the requirements\n-The issue of complex ownership structures\n-The verification and sanction mechanisms to be implemented\n\nAssistance on beneficial ownership has been part and parcel of the GF’s technical assistance to Jordan which began in November 2020.[/vc_column_text][/vc_column][/vc_row][vc_row type=”in_container” full_screen_row_position=”middle” column_margin=”default” column_direction=”default” column_direction_tablet=”default” column_direction_phone=”default” scene_position=”center” text_color=”dark” text_align=”left” row_border_radius=”none” row_border_radius_applies=”bg” overlay_strength=”0.3″ gradient_direction=”left_to_right” shape_divider_position=”bottom” bg_image_animation=”none”][vc_column column_padding=”no-extra-padding” column_padding_tablet=”inherit” column_padding_phone=”inherit” column_padding_position=”all” column_element_spacing=”default” background_color_opacity=”1″ background_hover_color_opacity=”1″ column_shadow=”none” column_border_radius=”none” column_link_target=”_self” gradient_direction=”left_to_right” overlay_strength=”0.3″ width=”1/1″ tablet_width_inherit=”default” tablet_text_alignment=”default” phone_text_alignment=”default” bg_image_animation=”none” border_type=”simple” column_border_width=”none” column_border_style=”solid”][nectar_cta btn_style=”see-through” heading_tag=”h6″ button_color=”default” link_type=”regular” alignment=”left” alignment_tablet=”default” alignment_phone=”default” display=”block” link_text=”Learn more about our work with Jordan” url=”https://www.global-amlcft.eu/where-we-work/jordan-aml-cft/”][/vc_column][/vc_row]
URL:https://www.global-amlcft.eu/event/e-workshop-on-bo-register-regulation-for-jordan/
LOCATION:Jordan
CATEGORIES:E-workshop/training
ATTACH;FMTTYPE=image/jpeg:https://www.global-amlcft.eu/wp-content/uploads/2021/11/WhatsApp-Image-2021-11-03-at-10.33.38-1-e1636020909586.jpeg
ORGANIZER;CN="EU AML/CFT Global Facility":MAILTO:info@global-amlcft.eu
END:VEVENT
END:VCALENDAR